BEGIN:VCALENDAR
VERSION:2.0
PRODID:-//ChamberMaster//Event Calendar 2.0//EN
METHOD:PUBLISH
X-PUBLISHED-TTL:P3D
REFRESH-INTERVAL:P3D
CALSCALE:GREGORIAN
BEGIN:VEVENT
DTSTART;VALUE=DATE:20170407
DTEND;VALUE=DATE:20170416
TRANSP:TRANSPARENT
X-MICROSOFT-CDO-ALLDAYEVENT:TRUE
SUMMARY:Basic Mediation Training
DESCRIPTION:Basic Mediation Training provided by Neighbor-to-Neighbor Mediation which serves Benton\, Linn\, and Marion Counties. This 36 hour training is open to anyone (i.e. community members\, counselors\, teachers\, business associates\, lawyers and others) wishing to learn interpersonal communication skills\, understand how to use conflict as a positive opportunity\, and for those wishing to become certified mediators (a volunteer option for N2N is available at a reduced rate). The training meets all standards set for community mediators within the University of Oregon School of Law. The dates are: April 7/8\, 13/14 from 8:30-5:30 p.m.\, and Thursday evening APril 13 from 5-9 p.m. The training is being held at the Mennonite Church in Albany\, just off I5. For more information and registration please visit our website at www.n2nmediation.org. The full price for non-volunteers is $495. If you plan to commit to volunteering (2 cases a month for at least one year) the fee is $195.
X-ALT-DESC;FMTTYPE=text/html:Basic Mediation Training provided by Neighbor-to-Neighbor Mediation which serves Benton\, Linn\, and Marion Counties. This 36 hour training is open to anyone (i.e. community members\, counselors\, teachers\, business associates\, lawyers and others) wishing to learn interpersonal communication skills\, understand how to use conflict as a positive opportunity\, and for those wishing to become certified mediators (a volunteer option for N2N is available at a reduced rate). The training meets all standards set for community mediators within the University of Oregon School of Law. The dates are: April 7/8\, 13/14 from 8:30-5:30 p.m.\, and Thursday evening APril 13 from 5-9 p.m. The training is being held at the Mennonite Church in Albany\, just off I5. For more information and registration please visit our website at www.n2nmediation.org. The full price for non-volunteers is $495. If you plan to commit to volunteering (2 cases a month for at least one year) the fee is $195.
LOCATION:Albany Mennonite Church 3405 Kizer Avenue NE Albany\, OR - just off I5
UID:e.76.6699
SEQUENCE:3
DTSTAMP:20260422T203922Z
URL:http://lebanonareachamber.chambermaster.com/events/details/basic-mediation-training-6699
END:VEVENT

END:VCALENDAR
