BEGIN:VCALENDAR
VERSION:2.0
PRODID:-//ChamberMaster//Event Calendar 2.0//EN
METHOD:PUBLISH
X-PUBLISHED-TTL:P3D
REFRESH-INTERVAL:P3D
CALSCALE:GREGORIAN
BEGIN:VEVENT
DTSTART:20171214T170000Z
DTEND:20171214T223000Z
X-MICROSOFT-CDO-ALLDAYEVENT:FALSE
SUMMARY:Collaborative Problem Solving: Rules\, Expectations\, Punishment\, and Consequences Workshop
DESCRIPTION:This workshop is designed for parents\, but is appropriate for anyone working with children and youth. Collaborative Problem Solving uses a strengths based approach based on a foundation of empathy. Come and see what it is all about!
X-ALT-DESC;FMTTYPE=text/html:This workshop is designed for parents\, but is appropriate for anyone working with children and youth. Collaborative Problem Solving uses a strengths based approach based on a foundation of empathy. Come and see what it is all about!
LOCATION:First United Methodist Church\, 1115 28th Ave SW\, Albany\, OR 97321
UID:e.76.7955
SEQUENCE:3
DTSTAMP:20260425T124648Z
URL:http://lebanonareachamber.chambermaster.com/events/details/collaborative-problem-solving-rules-expectations-punishment-and-consequences-workshop-7955
END:VEVENT

END:VCALENDAR
